Package: FuseSOM Version: 1.13.0 Command: rm -rf FuseSOM.buildbin-libdir && mkdir FuseSOM.buildbin-libdir && /Users/biocbuild/BBS/utils/build-universal.sh FuseSOM_1.13.0.tar.gz /Library/Frameworks/R.framework/Resources/bin/R FuseSOM.buildbin-libdir StartedAt: 2025-11-13 23:38:13 -0500 (Thu, 13 Nov 2025) EndedAt: 2025-11-13 23:38:33 -0500 (Thu, 13 Nov 2025) EllapsedTime: 20.4 seconds RetCode: 0 Status: OK PackageFile: FuseSOM_1.13.0.tgz PackageFileSize: 2.717 MiB