Package: FuseSOM Version: 1.13.0 Maintainer: Elijah Willie MaintainerEmail: ewil3501 at uni.sydney.edu.au git_url: https://git.bioconductor.org/packages/FuseSOM git_branch: devel git_last_commit: e01d218 git_last_commit_date: 2025-10-29 11:19:49 -0500 (Wed, 29 Oct 2025)