Package: FlowSOM Version: 2.19.0 Command: /home/biocbuild/bbs-3.23-bioc/R/bin/R CMD INSTALL FlowSOM StartedAt: 2025-11-13 15:13:43 -0500 (Thu, 13 Nov 2025) EndedAt: 2025-11-13 15:13:58 -0500 (Thu, 13 Nov 2025) EllapsedTime: 14.9 seconds RetCode: 0 Status: OK