Package: FlowSOM Version: 2.19.0 Command: /home/biocbuild/bbs-3.23-bioc/R/bin/R CMD check --install=check:FlowSOM.install-out.txt --library=/home/biocbuild/bbs-3.23-bioc/R/site-library --timings FlowSOM_2.19.0.tar.gz StartedAt: 2025-11-13 23:39:56 -0500 (Thu, 13 Nov 2025) EndedAt: 2025-11-13 23:49:54 -0500 (Thu, 13 Nov 2025) EllapsedTime: 597.8 seconds RetCode: 0 Status: OK CheckDir: FlowSOM.Rcheck Warnings: 0