Package: FlowSOM Version: 2.19.0 Command: /home/biocbuild/bbs-3.23-bioc/R/bin/R CMD build --keep-empty-dirs --no-resave-data FlowSOM StartedAt: 2025-11-13 17:38:50 -0500 (Thu, 13 Nov 2025) EndedAt: 2025-11-13 17:40:31 -0500 (Thu, 13 Nov 2025) EllapsedTime: 101.1 seconds RetCode: 0 Status: OK PackageFile: FlowSOM_2.19.0.tar.gz PackageFileSize: 4.906 MiB