Package: FlowSOM Version: 2.19.0 Command: /Library/Frameworks/R.framework/Resources/bin/R CMD build --keep-empty-dirs --no-resave-data FlowSOM StartedAt: 2025-11-13 16:26:07 -0500 (Thu, 13 Nov 2025) EndedAt: 2025-11-13 16:26:50 -0500 (Thu, 13 Nov 2025) EllapsedTime: 43.5 seconds RetCode: 0 Status: OK PackageFile: FlowSOM_2.19.0.tar.gz PackageFileSize: 4.903 MiB