Package: FitHiC Version: 1.37.0 Command: /home/biocbuild/bbs-3.23-bioc/R/bin/R CMD check --install=check:FitHiC.install-out.txt --library=/home/biocbuild/bbs-3.23-bioc/R/site-library --timings FitHiC_1.37.0.tar.gz StartedAt: 2025-11-14 23:35:20 -0500 (Fri, 14 Nov 2025) EndedAt: 2025-11-14 23:38:55 -0500 (Fri, 14 Nov 2025) EllapsedTime: 214.3 seconds RetCode: 0 Status: OK CheckDir: FitHiC.Rcheck Warnings: 0