Package: FitHiC Version: 1.37.0 Command: /home/biocbuild/bbs-3.23-bioc/R/bin/R CMD build --keep-empty-dirs --no-resave-data FitHiC StartedAt: 2025-11-11 17:39:28 -0500 (Tue, 11 Nov 2025) EndedAt: 2025-11-11 17:41:23 -0500 (Tue, 11 Nov 2025) EllapsedTime: 115.1 seconds RetCode: 0 Status: OK PackageFile: FitHiC_1.37.0.tar.gz PackageFileSize: 27.66 MiB