Package: FitHiC Version: 1.37.0 Command: /Library/Frameworks/R.framework/Resources/bin/R CMD build --keep-empty-dirs --no-resave-data FitHiC StartedAt: 2025-11-12 16:15:50 -0500 (Wed, 12 Nov 2025) EndedAt: 2025-11-12 16:16:46 -0500 (Wed, 12 Nov 2025) EllapsedTime: 55.8 seconds RetCode: 0 Status: OK PackageFile: FitHiC_1.37.0.tar.gz PackageFileSize: 27.88 MiB