Package: FinfoMDS Version: 1.1.0 Command: /home/biocbuild/bbs-3.23-bioc/R/bin/R CMD build --keep-empty-dirs --no-resave-data FinfoMDS StartedAt: 2025-11-14 17:36:55 -0500 (Fri, 14 Nov 2025) EndedAt: 2025-11-14 17:37:44 -0500 (Fri, 14 Nov 2025) EllapsedTime: 49.1 seconds RetCode: 0 Status: OK PackageFile: FinfoMDS_1.1.0.tar.gz PackageFileSize: 357.6 KiB