Package: FinfoMDS Version: 1.1.0 Command: /Library/Frameworks/R.framework/Resources/bin/R CMD INSTALL FinfoMDS StartedAt: 2025-11-14 15:10:36 -0500 (Fri, 14 Nov 2025) EndedAt: 2025-11-14 15:10:44 -0500 (Fri, 14 Nov 2025) EllapsedTime: 7.6 seconds RetCode: 0 Status: OK