Package: FinfoMDS Version: 1.1.0 Command: /Library/Frameworks/R.framework/Resources/bin/R CMD build --keep-empty-dirs --no-resave-data FinfoMDS StartedAt: 2025-11-14 16:21:28 -0500 (Fri, 14 Nov 2025) EndedAt: 2025-11-14 16:21:47 -0500 (Fri, 14 Nov 2025) EllapsedTime: 19.2 seconds RetCode: 0 Status: OK PackageFile: FinfoMDS_1.1.0.tar.gz PackageFileSize: 341.5 KiB