Package: FindIT2 Version: 1.17.0 Command: /home/biocbuild/bbs-3.23-bioc/R/bin/R CMD INSTALL FindIT2 StartedAt: 2025-11-11 15:44:20 -0500 (Tue, 11 Nov 2025) EndedAt: 2025-11-11 15:44:58 -0500 (Tue, 11 Nov 2025) EllapsedTime: 37.9 seconds RetCode: 0 Status: OK