Package: FindIT2 Version: 1.17.0 Command: /home/biocbuild/bbs-3.23-bioc/R/bin/R CMD build --keep-empty-dirs --no-resave-data FindIT2 StartedAt: 2025-11-13 17:36:26 -0500 (Thu, 13 Nov 2025) EndedAt: 2025-11-13 17:37:57 -0500 (Thu, 13 Nov 2025) EllapsedTime: 91.1 seconds RetCode: 0 Status: OK PackageFile: FindIT2_1.17.0.tar.gz PackageFileSize: 2.215 MiB