Package: FindIT2 Version: 1.17.0 Command: /Library/Frameworks/R.framework/Resources/bin/R CMD INSTALL FindIT2 StartedAt: 2025-11-14 15:21:32 -0500 (Fri, 14 Nov 2025) EndedAt: 2025-11-14 15:21:47 -0500 (Fri, 14 Nov 2025) EllapsedTime: 15.3 seconds RetCode: 0 Status: OK