Package: FindIT2 Version: 1.17.0 Command: /Library/Frameworks/R.framework/Resources/bin/R CMD build --keep-empty-dirs --no-resave-data FindIT2 StartedAt: 2025-11-14 16:21:24 -0500 (Fri, 14 Nov 2025) EndedAt: 2025-11-14 16:22:01 -0500 (Fri, 14 Nov 2025) EllapsedTime: 37.4 seconds RetCode: 0 Status: OK PackageFile: FindIT2_1.17.0.tar.gz PackageFileSize: 2.321 MiB