Package: FindIT2 Version: 1.17.0 Command: rm -rf FindIT2.buildbin-libdir && mkdir FindIT2.buildbin-libdir && /Users/biocbuild/BBS/utils/build-universal.sh FindIT2_1.17.0.tar.gz /Library/Frameworks/R.framework/Resources/bin/R FindIT2.buildbin-libdir StartedAt: 2025-11-14 23:32:43 -0500 (Fri, 14 Nov 2025) EndedAt: 2025-11-14 23:33:02 -0500 (Fri, 14 Nov 2025) EllapsedTime: 18.4 seconds RetCode: 0 Status: OK PackageFile: FindIT2_1.17.0.tgz PackageFileSize: 2.441 MiB