Package: FindIT2 Version: 1.17.0 Maintainer: Guandong Shang MaintainerEmail: shangguandong1996 at 163.com git_url: https://git.bioconductor.org/packages/FindIT2 git_branch: devel git_last_commit: 6e3f32a git_last_commit_date: 2025-10-29 11:10:30 -0500 (Wed, 29 Oct 2025)