Package: FilterFFPE Version: 1.21.0 Maintainer: Lanying Wei MaintainerEmail: lanying.wei at uni-muenster.de git_url: https://git.bioconductor.org/packages/FilterFFPE git_branch: devel git_last_commit: 8eee577 git_last_commit_date: 2025-10-29 11:02:12 -0500 (Wed, 29 Oct 2025)