Package: FeatSeekR Version: 1.11.0 Command: /Library/Frameworks/R.framework/Resources/bin/R CMD INSTALL FeatSeekR StartedAt: 2025-11-14 15:16:40 -0500 (Fri, 14 Nov 2025) EndedAt: 2025-11-14 15:16:49 -0500 (Fri, 14 Nov 2025) EllapsedTime: 8.7 seconds RetCode: 0 Status: OK