Package: FeatSeekR Version: 1.11.0 Command: /Library/Frameworks/R.framework/Resources/bin/R CMD build --keep-empty-dirs --no-resave-data FeatSeekR StartedAt: 2025-11-14 16:20:53 -0500 (Fri, 14 Nov 2025) EndedAt: 2025-11-14 16:21:05 -0500 (Fri, 14 Nov 2025) EllapsedTime: 12.1 seconds RetCode: 0 Status: OK PackageFile: FeatSeekR_1.11.0.tar.gz PackageFileSize: 361.7 KiB