Package: FeatSeekR Version: 1.11.0 Command: rm -rf FeatSeekR.buildbin-libdir && mkdir FeatSeekR.buildbin-libdir && /Users/biocbuild/BBS/utils/build-universal.sh FeatSeekR_1.11.0.tar.gz /Library/Frameworks/R.framework/Resources/bin/R FeatSeekR.buildbin-libdir StartedAt: 2025-11-14 23:32:37 -0500 (Fri, 14 Nov 2025) EndedAt: 2025-11-14 23:32:47 -0500 (Fri, 14 Nov 2025) EllapsedTime: 10.3 seconds RetCode: 0 Status: OK PackageFile: FeatSeekR_1.11.0.tgz PackageFileSize: 392.2 KiB