Package: FastqCleaner Version: 1.29.0 Command: /Library/Frameworks/R.framework/Resources/bin/R CMD INSTALL FastqCleaner StartedAt: 2025-11-13 15:29:03 -0500 (Thu, 13 Nov 2025) EndedAt: 2025-11-13 15:29:20 -0500 (Thu, 13 Nov 2025) EllapsedTime: 16.5 seconds RetCode: 0 Status: OK