Package: FastqCleaner Version: 1.29.0 Command: /Library/Frameworks/R.framework/Resources/bin/R CMD build --keep-empty-dirs --no-resave-data FastqCleaner StartedAt: 2025-11-12 16:14:36 -0500 (Wed, 12 Nov 2025) EndedAt: 2025-11-12 16:15:04 -0500 (Wed, 12 Nov 2025) EllapsedTime: 28.3 seconds RetCode: 0 Status: OK PackageFile: FastqCleaner_1.29.0.tar.gz PackageFileSize: 4.356 MiB