Package: FastqCleaner Version: 1.29.0 Command: rm -rf FastqCleaner.buildbin-libdir && mkdir FastqCleaner.buildbin-libdir && /Users/biocbuild/BBS/utils/build-universal.sh FastqCleaner_1.29.0.tar.gz /Library/Frameworks/R.framework/Resources/bin/R FastqCleaner.buildbin-libdir StartedAt: 2025-11-13 23:37:27 -0500 (Thu, 13 Nov 2025) EndedAt: 2025-11-13 23:37:49 -0500 (Thu, 13 Nov 2025) EllapsedTime: 21.5 seconds RetCode: 0 Status: OK PackageFile: FastqCleaner_1.29.0.tgz PackageFileSize: 3.772 MiB