Package: FastqCleaner Version: 1.29.0 Maintainer: Leandro Roser MaintainerEmail: learoser at gmail.com git_url: https://git.bioconductor.org/packages/FastqCleaner git_branch: devel git_last_commit: 464323c git_last_commit_date: 2025-10-29 10:45:40 -0500 (Wed, 29 Oct 2025)