Package: FamAgg Version: 1.39.0 Command: /Library/Frameworks/R.framework/Resources/bin/R CMD INSTALL FamAgg StartedAt: 2025-11-13 15:06:34 -0500 (Thu, 13 Nov 2025) EndedAt: 2025-11-13 15:06:39 -0500 (Thu, 13 Nov 2025) EllapsedTime: 4.6 seconds RetCode: 0 Status: OK