Package: FamAgg Version: 1.39.0 Maintainer: Johannes Rainer MaintainerEmail: johannes.rainer at eurac.edu git_url: https://git.bioconductor.org/packages/FamAgg git_branch: devel git_last_commit: e1e4503 git_last_commit_date: 2025-10-29 10:28:55 -0500 (Wed, 29 Oct 2025)