Package: FISHalyseR Version: 1.45.0 Command: /Library/Frameworks/R.framework/Resources/bin/R CMD INSTALL FISHalyseR StartedAt: 2025-11-21 15:07:24 -0500 (Fri, 21 Nov 2025) EndedAt: 2025-11-21 15:07:27 -0500 (Fri, 21 Nov 2025) EllapsedTime: 2.6 seconds RetCode: 0 Status: OK