Package: FISHalyseR Version: 1.45.0 Command: /Library/Frameworks/R.framework/Resources/bin/R CMD build --keep-empty-dirs --no-resave-data FISHalyseR StartedAt: 2025-11-21 16:21:02 -0500 (Fri, 21 Nov 2025) EndedAt: 2025-11-21 16:21:12 -0500 (Fri, 21 Nov 2025) EllapsedTime: 10.1 seconds RetCode: 0 Status: OK PackageFile: FISHalyseR_1.45.0.tar.gz PackageFileSize: 781.5 KiB