Package: FISHalyseR Version: 1.45.0 Command: rm -rf FISHalyseR.buildbin-libdir && mkdir FISHalyseR.buildbin-libdir && /Users/biocbuild/BBS/utils/build-universal.sh FISHalyseR_1.45.0.tar.gz /Library/Frameworks/R.framework/Resources/bin/R FISHalyseR.buildbin-libdir StartedAt: 2025-11-21 23:32:16 -0500 (Fri, 21 Nov 2025) EndedAt: 2025-11-21 23:32:19 -0500 (Fri, 21 Nov 2025) EllapsedTime: 3.1 seconds RetCode: 0 Status: OK PackageFile: FISHalyseR_1.45.0.tgz PackageFileSize: 831.1 KiB