Package: FGNet Version: 3.45.0 Command: /Library/Frameworks/R.framework/Resources/bin/R CMD build --keep-empty-dirs --no-resave-data FGNet StartedAt: 2025-11-13 16:24:18 -0500 (Thu, 13 Nov 2025) EndedAt: 2025-11-13 16:24:26 -0500 (Thu, 13 Nov 2025) EllapsedTime: 8.1 seconds RetCode: 0 Status: OK PackageFile: FGNet_3.45.0.tar.gz PackageFileSize: 2.721 MiB