Package: FGNet Version: 3.45.0 Command: rm -rf FGNet.buildbin-libdir && mkdir FGNet.buildbin-libdir && /Users/biocbuild/BBS/utils/build-universal.sh FGNet_3.45.0.tar.gz /Library/Frameworks/R.framework/Resources/bin/R FGNet.buildbin-libdir StartedAt: 2025-11-13 23:37:37 -0500 (Thu, 13 Nov 2025) EndedAt: 2025-11-13 23:37:42 -0500 (Thu, 13 Nov 2025) EllapsedTime: 5.1 seconds RetCode: 0 Status: OK PackageFile: FGNet_3.45.0.tgz PackageFileSize: 1.692 MiB