Package: FELLA Version: 1.31.0 Command: /home/biocbuild/bbs-3.23-bioc/R/bin/R CMD INSTALL FELLA StartedAt: 2025-11-21 15:26:18 -0500 (Fri, 21 Nov 2025) EndedAt: 2025-11-21 15:26:33 -0500 (Fri, 21 Nov 2025) EllapsedTime: 15.0 seconds RetCode: 0 Status: OK