Package: FELLA Version: 1.31.0 Command: /home/biocbuild/bbs-3.23-bioc/R/bin/R CMD build --keep-empty-dirs --no-resave-data FELLA StartedAt: 2025-11-21 17:36:18 -0500 (Fri, 21 Nov 2025) EndedAt: 2025-11-21 17:59:42 -0500 (Fri, 21 Nov 2025) EllapsedTime: 1403.5 seconds RetCode: 0 Status: OK PackageFile: FELLA_1.31.0.tar.gz PackageFileSize: 4.171 MiB