Package: FELLA Version: 1.31.0 Command: /Library/Frameworks/R.framework/Resources/bin/R CMD INSTALL FELLA StartedAt: 2025-11-13 15:08:46 -0500 (Thu, 13 Nov 2025) EndedAt: 2025-11-13 15:08:53 -0500 (Thu, 13 Nov 2025) EllapsedTime: 6.1 seconds RetCode: 0 Status: OK