Package: FELLA Version: 1.31.0 Command: /Library/Frameworks/R.framework/Resources/bin/R CMD build --keep-empty-dirs --no-resave-data FELLA StartedAt: 2025-11-13 16:24:08 -0500 (Thu, 13 Nov 2025) EndedAt: 2025-11-13 16:34:28 -0500 (Thu, 13 Nov 2025) EllapsedTime: 619.8 seconds RetCode: 1 Status: ERROR PackageFile: None PackageFileSize: NA