Package: FELLA Version: 1.31.0 Maintainer: Sergio Picart-Armada MaintainerEmail: sergi.picart at upc.edu git_url: https://git.bioconductor.org/packages/FELLA git_branch: devel git_last_commit: fa92721 git_last_commit_date: 2025-10-29 10:43:53 -0500 (Wed, 29 Oct 2025)