Package: FEAST Version: 1.19.0 Command: /Library/Frameworks/R.framework/Resources/bin/R CMD INSTALL FEAST StartedAt: 2025-11-23 15:22:07 -0500 (Sun, 23 Nov 2025) EndedAt: 2025-11-23 15:22:20 -0500 (Sun, 23 Nov 2025) EllapsedTime: 12.5 seconds RetCode: 0 Status: OK