Package: FEAST Version: 1.19.0 Command: /Library/Frameworks/R.framework/Resources/bin/R CMD build --keep-empty-dirs --no-resave-data FEAST StartedAt: 2025-11-23 16:21:51 -0500 (Sun, 23 Nov 2025) EndedAt: 2025-11-23 16:22:15 -0500 (Sun, 23 Nov 2025) EllapsedTime: 24.3 seconds RetCode: 0 Status: OK PackageFile: FEAST_1.19.0.tar.gz PackageFileSize: 3.458 MiB