Package: ExpressionAtlas Version: 2.3.0 Command: /Library/Frameworks/R.framework/Resources/bin/R CMD check --install=check:ExpressionAtlas.install-out.txt --library=/Library/Frameworks/R.framework/Resources/library --no-vignettes --timings ExpressionAtlas_2.3.0.tar.gz StartedAt: 2025-11-21 19:50:57 -0500 (Fri, 21 Nov 2025) EndedAt: 2025-11-21 19:52:35 -0500 (Fri, 21 Nov 2025) EllapsedTime: 98.3 seconds RetCode: 0 Status: OK CheckDir: ExpressionAtlas.Rcheck Warnings: 0