Package: ExpressionAtlas Version: 2.3.0 Command: /Library/Frameworks/R.framework/Resources/bin/R CMD build --keep-empty-dirs --no-resave-data ExpressionAtlas StartedAt: 2025-11-13 16:23:11 -0500 (Thu, 13 Nov 2025) EndedAt: 2025-11-13 16:23:25 -0500 (Thu, 13 Nov 2025) EllapsedTime: 14.2 seconds RetCode: 0 Status: OK PackageFile: ExpressionAtlas_2.3.0.tar.gz PackageFileSize: 319.3 KiB