Package: ExpressionAtlas Version: 2.3.0 Command: rm -rf ExpressionAtlas.buildbin-libdir && mkdir ExpressionAtlas.buildbin-libdir && /Users/biocbuild/BBS/utils/build-universal.sh ExpressionAtlas_2.3.0.tar.gz /Library/Frameworks/R.framework/Resources/bin/R ExpressionAtlas.buildbin-libdir StartedAt: 2025-11-12 20:57:23 -0500 (Wed, 12 Nov 2025) EndedAt: 2025-11-12 20:57:34 -0500 (Wed, 12 Nov 2025) EllapsedTime: 11.2 seconds RetCode: 0 Status: OK PackageFile: ExpressionAtlas_2.3.0.tgz PackageFileSize: 346.9 KiB