Package: ExploreModelMatrix Version: 1.23.0 Command: /home/biocbuild/bbs-3.23-bioc/R/bin/R CMD INSTALL ExploreModelMatrix StartedAt: 2025-11-11 15:16:48 -0500 (Tue, 11 Nov 2025) EndedAt: 2025-11-11 15:16:58 -0500 (Tue, 11 Nov 2025) EllapsedTime: 9.6 seconds RetCode: 0 Status: OK