Package: ExploreModelMatrix Version: 1.23.0 Command: /home/biocbuild/bbs-3.23-bioc/R/bin/R CMD check --install=check:ExploreModelMatrix.install-out.txt --library=/home/biocbuild/bbs-3.23-bioc/R/site-library --timings ExploreModelMatrix_1.23.0.tar.gz StartedAt: 2025-11-13 23:30:58 -0500 (Thu, 13 Nov 2025) EndedAt: 2025-11-13 23:32:20 -0500 (Thu, 13 Nov 2025) EllapsedTime: 81.1 seconds RetCode: 0 Status: OK CheckDir: ExploreModelMatrix.Rcheck Warnings: 0