Package: ExploreModelMatrix Version: 1.23.0 Command: /home/biocbuild/bbs-3.23-bioc/R/bin/R CMD build --keep-empty-dirs --no-resave-data ExploreModelMatrix StartedAt: 2025-11-11 17:36:26 -0500 (Tue, 11 Nov 2025) EndedAt: 2025-11-11 17:36:45 -0500 (Tue, 11 Nov 2025) EllapsedTime: 19.0 seconds RetCode: 0 Status: OK PackageFile: ExploreModelMatrix_1.23.0.tar.gz PackageFileSize: 2.564 MiB