Package: ExploreModelMatrix Version: 1.23.0 Command: /Library/Frameworks/R.framework/Resources/bin/R CMD check --install=check:ExploreModelMatrix.install-out.txt --library=/Library/Frameworks/R.framework/Resources/library --no-vignettes --timings ExploreModelMatrix_1.23.0.tar.gz StartedAt: 2025-11-14 19:51:41 -0500 (Fri, 14 Nov 2025) EndedAt: 2025-11-14 19:52:18 -0500 (Fri, 14 Nov 2025) EllapsedTime: 37.5 seconds RetCode: 0 Status: OK CheckDir: ExploreModelMatrix.Rcheck Warnings: 0