Package: ExperimentSubset Version: 1.21.0 Command: /Library/Frameworks/R.framework/Resources/bin/R CMD INSTALL ExperimentSubset StartedAt: 2025-11-13 15:15:23 -0500 (Thu, 13 Nov 2025) EndedAt: 2025-11-13 15:15:37 -0500 (Thu, 13 Nov 2025) EllapsedTime: 13.8 seconds RetCode: 0 Status: OK