Package: ExperimentSubset Version: 1.21.0 Command: /Library/Frameworks/R.framework/Resources/bin/R CMD build --keep-empty-dirs --no-resave-data ExperimentSubset StartedAt: 2025-11-12 16:14:17 -0500 (Wed, 12 Nov 2025) EndedAt: 2025-11-12 16:14:36 -0500 (Wed, 12 Nov 2025) EllapsedTime: 19.2 seconds RetCode: 0 Status: OK PackageFile: ExperimentSubset_1.21.0.tar.gz PackageFileSize: 307.4 KiB