Package: ExperimentHubData Version: 1.37.0 Command: /Library/Frameworks/R.framework/Resources/bin/R CMD build --keep-empty-dirs --no-resave-data ExperimentHubData StartedAt: 2025-11-12 16:14:14 -0500 (Wed, 12 Nov 2025) EndedAt: 2025-11-12 16:14:32 -0500 (Wed, 12 Nov 2025) EllapsedTime: 18.2 seconds RetCode: 0 Status: OK PackageFile: ExperimentHubData_1.37.0.tar.gz PackageFileSize: 222.9 KiB